BEGIN:VCALENDAR
VERSION:2.0
PRODID:-//Yacht Nausikaa - ECPv6.15.20//NONSGML v1.0//EN
CALSCALE:GREGORIAN
METHOD:PUBLISH
X-ORIGINAL-URL:https://nausikaa.co.uk
X-WR-CALDESC:Events for Yacht Nausikaa
REFRESH-INTERVAL;VALUE=DURATION:PT1H
X-Robots-Tag:noindex
X-PUBLISHED-TTL:PT1H
BEGIN:VTIMEZONE
TZID:Europe/London
BEGIN:DAYLIGHT
TZOFFSETFROM:+0000
TZOFFSETTO:+0100
TZNAME:BST
DTSTART:20250330T010000
END:DAYLIGHT
BEGIN:STANDARD
TZOFFSETFROM:+0100
TZOFFSETTO:+0000
TZNAME:GMT
DTSTART:20251026T010000
END:STANDARD
BEGIN:DAYLIGHT
TZOFFSETFROM:+0000
TZOFFSETTO:+0100
TZNAME:BST
DTSTART:20260329T010000
END:DAYLIGHT
BEGIN:STANDARD
TZOFFSETFROM:+0100
TZOFFSETTO:+0000
TZNAME:GMT
DTSTART:20261025T010000
END:STANDARD
BEGIN:DAYLIGHT
TZOFFSETFROM:+0000
TZOFFSETTO:+0100
TZNAME:BST
DTSTART:20270328T010000
END:DAYLIGHT
BEGIN:STANDARD
TZOFFSETFROM:+0100
TZOFFSETTO:+0000
TZNAME:GMT
DTSTART:20271031T010000
END:STANDARD
END:VTIMEZONE
BEGIN:VEVENT
DTSTART;TZID=Europe/London:20260713T080000
DTEND;TZID=Europe/London:20260713T170000
DTSTAMP:20260419T203239
CREATED:20260121T150352Z
LAST-MODIFIED:20260121T150352Z
UID:1274-1783929600-1783962000@nausikaa.co.uk
SUMMARY:Cruise in Company Lézardrieux to Paimpol
DESCRIPTION:Evening Parade of Sail into Paimpol harbour
URL:https://nausikaa.co.uk/event/cruise-in-company-lezardrieux-to-paimpol/
CATEGORIES:Classic Channel Regatta
END:VEVENT
BEGIN:VEVENT
DTSTART;VALUE=DATE:20260714
DTEND;VALUE=DATE:20260715
DTSTAMP:20260419T203239
CREATED:20260121T150929Z
LAST-MODIFIED:20260121T150929Z
UID:1276-1783987200-1784073599@nausikaa.co.uk
SUMMARY:Paimpol for Bastille Day
DESCRIPTION:Day in port in Paimpol for Bastille Day festivities \nPrizegiving for Channel and Passage Races.
URL:https://nausikaa.co.uk/event/paimpol-for-bastille-day/
CATEGORIES:Classic Channel Regatta
END:VEVENT
BEGIN:VEVENT
DTSTART;VALUE=DATE:20260715
DTEND;VALUE=DATE:20260716
DTSTAMP:20260419T203239
CREATED:20260121T151428Z
LAST-MODIFIED:20260121T151428Z
UID:1278-1784073600-1784159999@nausikaa.co.uk
SUMMARY:Around Île-de-Bréhat Race
DESCRIPTION:Around Île-de-Bréhat Race and Picnic Lunch \nDanse de Classiques \nEvening Parade of Sail into Paimpol Harbour
URL:https://nausikaa.co.uk/event/around-ile-de-brehat-race/
CATEGORIES:Classic Channel Regatta
END:VEVENT
BEGIN:VEVENT
DTSTART;VALUE=DATE:20260716
DTEND;VALUE=DATE:20260717
DTSTAMP:20260419T203239
CREATED:20260121T151737Z
LAST-MODIFIED:20260121T151737Z
UID:1280-1784160000-1784246399@nausikaa.co.uk
SUMMARY:Paimpol
DESCRIPTION:Final Day in Paimpol \nActivities\, Prizegiving and Grand Finale
URL:https://nausikaa.co.uk/event/paimpol/
CATEGORIES:Classic Channel Regatta
END:VEVENT
BEGIN:VEVENT
DTSTART;VALUE=DATE:20260717
DTEND;VALUE=DATE:20260719
DTSTAMP:20260419T203239
CREATED:20260121T152045Z
LAST-MODIFIED:20260121T152045Z
UID:1282-1784246400-1784419199@nausikaa.co.uk
SUMMARY:Passage Paimpol to Plymouth
DESCRIPTION:Probably arrive Plymouth Saturday morning. \nSubject to weather.
URL:https://nausikaa.co.uk/event/passage-paimpol-to-plymouth/
CATEGORIES:Passage
END:VEVENT
BEGIN:VEVENT
DTSTART;VALUE=DATE:20260727
DTEND;VALUE=DATE:20260731
DTSTAMP:20260419T203239
CREATED:20260108T153907Z
LAST-MODIFIED:20260108T153907Z
UID:1093-1785110400-1785455999@nausikaa.co.uk
SUMMARY:Fowey Classics
DESCRIPTION:
URL:https://nausikaa.co.uk/event/fowey-classics/
CATEGORIES:West Country Classics
END:VEVENT
BEGIN:VEVENT
DTSTART;VALUE=DATE:20260731
DTEND;VALUE=DATE:20260801
DTSTAMP:20260419T203239
CREATED:20260108T154011Z
LAST-MODIFIED:20260108T161552Z
UID:1095-1785456000-1785542399@nausikaa.co.uk
SUMMARY:Passage to Plymouth
DESCRIPTION:
URL:https://nausikaa.co.uk/event/passage-to-plymouth/
CATEGORIES:Passage
END:VEVENT
BEGIN:VEVENT
DTSTART;VALUE=DATE:20260905
DTEND;VALUE=DATE:20260907
DTSTAMP:20260419T203239
CREATED:20260108T145737Z
LAST-MODIFIED:20260108T145747Z
UID:1080-1788566400-1788739199@nausikaa.co.uk
SUMMARY:RNSA Race to Salcombe II
DESCRIPTION:Overnight in Salcombe
URL:https://nausikaa.co.uk/event/rnsa-race-to-salcombe-2/
CATEGORIES:RNSA
END:VEVENT
BEGIN:VEVENT
DTSTART;VALUE=DATE:20260912
DTEND;VALUE=DATE:20260913
DTSTAMP:20260419T203239
CREATED:20260108T150012Z
LAST-MODIFIED:20260108T150012Z
UID:1083-1789171200-1789257599@nausikaa.co.uk
SUMMARY:Cargreen Regatta
DESCRIPTION:
URL:https://nausikaa.co.uk/event/cargreen-regatta/
CATEGORIES:RNSA
END:VEVENT
END:VCALENDAR