BEGIN:VCALENDAR
VERSION:2.0
PRODID:-//Yacht Nausikaa - ECPv6.15.20//NONSGML v1.0//EN
CALSCALE:GREGORIAN
METHOD:PUBLISH
X-WR-CALNAME:Yacht Nausikaa
X-ORIGINAL-URL:https://nausikaa.co.uk
X-WR-CALDESC:Events for Yacht Nausikaa
REFRESH-INTERVAL;VALUE=DURATION:PT1H
X-Robots-Tag:noindex
X-PUBLISHED-TTL:PT1H
BEGIN:VTIMEZONE
TZID:Europe/London
BEGIN:DAYLIGHT
TZOFFSETFROM:+0000
TZOFFSETTO:+0100
TZNAME:BST
DTSTART:20250330T010000
END:DAYLIGHT
BEGIN:STANDARD
TZOFFSETFROM:+0100
TZOFFSETTO:+0000
TZNAME:GMT
DTSTART:20251026T010000
END:STANDARD
BEGIN:DAYLIGHT
TZOFFSETFROM:+0000
TZOFFSETTO:+0100
TZNAME:BST
DTSTART:20260329T010000
END:DAYLIGHT
BEGIN:STANDARD
TZOFFSETFROM:+0100
TZOFFSETTO:+0000
TZNAME:GMT
DTSTART:20261025T010000
END:STANDARD
BEGIN:DAYLIGHT
TZOFFSETFROM:+0000
TZOFFSETTO:+0100
TZNAME:BST
DTSTART:20270328T010000
END:DAYLIGHT
BEGIN:STANDARD
TZOFFSETFROM:+0100
TZOFFSETTO:+0000
TZNAME:GMT
DTSTART:20271031T010000
END:STANDARD
END:VTIMEZONE
BEGIN:VEVENT
DTSTART;VALUE=DATE:20260612
DTEND;VALUE=DATE:20260615
DTSTAMP:20260419T170605
CREATED:20260108T152904Z
LAST-MODIFIED:20260108T152904Z
UID:1086-1781222400-1781481599@nausikaa.co.uk
SUMMARY:Falmouth Classics
DESCRIPTION:Racing Friday and Saturday\, Parade of Sail Sunday
URL:https://nausikaa.co.uk/event/falmouth-classics/
CATEGORIES:West Country Classics
END:VEVENT
BEGIN:VEVENT
DTSTART;VALUE=DATE:20260708
DTEND;VALUE=DATE:20260710
DTSTAMP:20260419T170605
CREATED:20260108T161823Z
LAST-MODIFIED:20260121T144924Z
UID:1097-1783468800-1783641599@nausikaa.co.uk
SUMMARY:Dartmouth Classics
DESCRIPTION:Wednesday  \nRacing in Dartmouth Classics – Day 1 \nEvening Crew Supper Party \nThursday \nRacing in Dartmouth Classics – Day 2 \nEvening Prizegiving for Dartmouth Classics Races
URL:https://nausikaa.co.uk/event/dartmouth-classics/
CATEGORIES:West Country Classics
END:VEVENT
BEGIN:VEVENT
DTSTART;VALUE=DATE:20260727
DTEND;VALUE=DATE:20260731
DTSTAMP:20260419T170605
CREATED:20260108T153907Z
LAST-MODIFIED:20260108T153907Z
UID:1093-1785110400-1785455999@nausikaa.co.uk
SUMMARY:Fowey Classics
DESCRIPTION:
URL:https://nausikaa.co.uk/event/fowey-classics/
CATEGORIES:West Country Classics
END:VEVENT
END:VCALENDAR