BEGIN:VCALENDAR
VERSION:2.0
PRODID:-//Yacht Nausikaa - ECPv6.15.20//NONSGML v1.0//EN
CALSCALE:GREGORIAN
METHOD:PUBLISH
X-ORIGINAL-URL:https://nausikaa.co.uk
X-WR-CALDESC:Events for Yacht Nausikaa
REFRESH-INTERVAL;VALUE=DURATION:PT1H
X-Robots-Tag:noindex
X-PUBLISHED-TTL:PT1H
BEGIN:VTIMEZONE
TZID:Europe/London
BEGIN:DAYLIGHT
TZOFFSETFROM:+0000
TZOFFSETTO:+0100
TZNAME:BST
DTSTART:20250330T010000
END:DAYLIGHT
BEGIN:STANDARD
TZOFFSETFROM:+0100
TZOFFSETTO:+0000
TZNAME:GMT
DTSTART:20251026T010000
END:STANDARD
BEGIN:DAYLIGHT
TZOFFSETFROM:+0000
TZOFFSETTO:+0100
TZNAME:BST
DTSTART:20260329T010000
END:DAYLIGHT
BEGIN:STANDARD
TZOFFSETFROM:+0100
TZOFFSETTO:+0000
TZNAME:GMT
DTSTART:20261025T010000
END:STANDARD
BEGIN:DAYLIGHT
TZOFFSETFROM:+0000
TZOFFSETTO:+0100
TZNAME:BST
DTSTART:20270328T010000
END:DAYLIGHT
BEGIN:STANDARD
TZOFFSETFROM:+0100
TZOFFSETTO:+0000
TZNAME:GMT
DTSTART:20271031T010000
END:STANDARD
END:VTIMEZONE
BEGIN:VEVENT
DTSTART;VALUE=DATE:20260611
DTEND;VALUE=DATE:20260612
DTSTAMP:20260419T221322
CREATED:20260108T153032Z
LAST-MODIFIED:20260108T153216Z
UID:1088-1781136000-1781222399@nausikaa.co.uk
SUMMARY:Passage to Falmouth
DESCRIPTION:To position for the Falmouth Classics
URL:https://nausikaa.co.uk/event/passage-to-falmouth/
CATEGORIES:Passage
END:VEVENT
BEGIN:VEVENT
DTSTART;VALUE=DATE:20260615
DTEND;VALUE=DATE:20260616
DTSTAMP:20260419T221322
CREATED:20260108T153552Z
LAST-MODIFIED:20260108T153552Z
UID:1091-1781481600-1781567999@nausikaa.co.uk
SUMMARY:Passage Falmouth to Plymouth
DESCRIPTION:
URL:https://nausikaa.co.uk/event/passage-falmouth-to-plymouth/
CATEGORIES:Passage
END:VEVENT
BEGIN:VEVENT
DTSTART;VALUE=DATE:20260622
DTEND;VALUE=DATE:20260626
DTSTAMP:20260419T221323
CREATED:20260322T143208Z
LAST-MODIFIED:20260322T143208Z
UID:1384-1782086400-1782431999@nausikaa.co.uk
SUMMARY:Cruise to Helston River
DESCRIPTION:
URL:https://nausikaa.co.uk/event/cruise-to-helston-river/
CATEGORIES:Passage
END:VEVENT
END:VCALENDAR